BEGIN:VCALENDAR
VERSION:2.0
PRODID:-//Volunteer Lawyers Project - ECPv6.6.4.2//NONSGML v1.0//EN
CALSCALE:GREGORIAN
METHOD:PUBLISH
X-WR-CALNAME:Volunteer Lawyers Project
X-ORIGINAL-URL:https://vlpnet.org
X-WR-CALDESC:Events for Volunteer Lawyers Project
REFRESH-INTERVAL;VALUE=DURATION:PT1H
X-Robots-Tag:noindex
X-PUBLISHED-TTL:PT1H
BEGIN:VTIMEZONE
TZID:America/New_York
BEGIN:DAYLIGHT
TZOFFSETFROM:-0500
TZOFFSETTO:-0400
TZNAME:EDT
DTSTART:20250309T070000
END:DAYLIGHT
BEGIN:STANDARD
TZOFFSETFROM:-0400
TZOFFSETTO:-0500
TZNAME:EST
DTSTART:20251102T060000
END:STANDARD
END:VTIMEZONE
BEGIN:VEVENT
DTSTART;TZID=America/New_York:20250415T093000
DTEND;TZID=America/New_York:20250415T123000
DTSTAMP:20260422T065838
CREATED:20241008T201522Z
LAST-MODIFIED:20260413T144056Z
UID:10002502-1744709400-1744720200@vlpnet.org
SUMMARY:Housing Lawyer for the Day Clinic
DESCRIPTION:In-Person @ Eastern Housing Court (the Edward Brooke Courthouse)\, on the 3rd Floor outside the clerks office. \n24 New Chardon St\, Boston\, MA 02114
URL:https://vlpnet.org/event/housing-lawyer-for-the-day-clinic-in-person-101/2025-04-15/
CATEGORIES:Calendar of Events
END:VEVENT
BEGIN:VEVENT
DTSTART;TZID=America/New_York:20250415T113000
DTEND;TZID=America/New_York:20250415T143000
DTSTAMP:20260422T065838
CREATED:20241009T130339Z
LAST-MODIFIED:20250930T201254Z
UID:10002572-1744716600-1744727400@vlpnet.org
SUMMARY:Housing Lawyer for the Day Clinic- In Person
DESCRIPTION:In-Person @ Eastern Housing Court (the Edward Brooke Courthouse)\, on the 3rd Floor outside of Courtroom 10. \n24 New Chardon St\, Boston\, MA 02114
URL:https://vlpnet.org/event/housing-lawyer-for-the-day-clinic-in-person-102-2/2025-04-15/
CATEGORIES:Calendar of Events
END:VEVENT
BEGIN:VEVENT
DTSTART;TZID=America/New_York:20250416T090000
DTEND;TZID=America/New_York:20250416T130000
DTSTAMP:20260422T065838
CREATED:20241009T144130Z
LAST-MODIFIED:20260417T180517Z
UID:10002926-1744794000-1744808400@vlpnet.org
SUMMARY:Family Law/Guardianship Clinic- In Person
DESCRIPTION:In-Person @ Suffolk Probate and Family Court: 24 New Chardon St\, Boston MA 02114
URL:https://vlpnet.org/event/family-law-guardianship-clinic-in-person-60/2025-04-16/
CATEGORIES:Calendar of Events,VLP-events
END:VEVENT
BEGIN:VEVENT
DTSTART;TZID=America/New_York:20250417T110000
DTEND;TZID=America/New_York:20250417T130000
DTSTAMP:20260422T065838
CREATED:20241009T134431Z
LAST-MODIFIED:20250320T180230Z
UID:10002824-1744887600-1744894800@vlpnet.org
SUMMARY:Consumer Debt Clinic
DESCRIPTION:Boston Municipal Court \nSmall claims- 1st and 3rd Thursdays 10am-1pm\, \n24 New Chardon Street\, Boston MA 02114 (5th Floor) \nDorchester Municipal Court- Small Claims \n2nd and 4th Thursdays 11 am- 1 pm \n510 Washington St\, Boston\, \nMA 02124
URL:https://vlpnet.org/event/consumer-debt-clinic-75-2/2025-04-17/
CATEGORIES:Calendar of Events
END:VEVENT
BEGIN:VEVENT
DTSTART;TZID=America/New_York:20250422T093000
DTEND;TZID=America/New_York:20250422T123000
DTSTAMP:20260422T065838
CREATED:20241008T201522Z
LAST-MODIFIED:20260413T144056Z
UID:10002984-1745314200-1745325000@vlpnet.org
SUMMARY:Housing Lawyer for the Day Clinic
DESCRIPTION:In-Person @ Eastern Housing Court (the Edward Brooke Courthouse)\, on the 3rd Floor outside the clerks office. \n24 New Chardon St\, Boston\, MA 02114
URL:https://vlpnet.org/event/housing-lawyer-for-the-day-clinic-in-person-101/2025-04-22/
CATEGORIES:Calendar of Events
END:VEVENT
BEGIN:VEVENT
DTSTART;TZID=America/New_York:20250422T113000
DTEND;TZID=America/New_York:20250422T143000
DTSTAMP:20260422T065838
CREATED:20241009T130339Z
LAST-MODIFIED:20250930T201254Z
UID:10002995-1745321400-1745332200@vlpnet.org
SUMMARY:Housing Lawyer for the Day Clinic- In Person
DESCRIPTION:In-Person @ Eastern Housing Court (the Edward Brooke Courthouse)\, on the 3rd Floor outside of Courtroom 10. \n24 New Chardon St\, Boston\, MA 02114
URL:https://vlpnet.org/event/housing-lawyer-for-the-day-clinic-in-person-102-2/2025-04-22/
CATEGORIES:Calendar of Events
END:VEVENT
BEGIN:VEVENT
DTSTART;TZID=America/New_York:20250423T090000
DTEND;TZID=America/New_York:20250423T130000
DTSTAMP:20260422T065838
CREATED:20241009T141510Z
LAST-MODIFIED:20251121T194414Z
UID:10002902-1745398800-1745413200@vlpnet.org
SUMMARY:Family Law/Guardianship Clinic- Virtual
DESCRIPTION:Before your virtually scheduled clinic date\, we will send you the zoom login information and all other necessary information to participate.
URL:https://vlpnet.org/event/family-law-guardianship-clinic-virtual-41/2025-04-23/
CATEGORIES:Calendar of Events
END:VEVENT
BEGIN:VEVENT
DTSTART;TZID=America/New_York:20250424T110000
DTEND;TZID=America/New_York:20250424T130000
DTSTAMP:20260422T065838
CREATED:20241009T134431Z
LAST-MODIFIED:20250320T180230Z
UID:10003271-1745492400-1745499600@vlpnet.org
SUMMARY:Consumer Debt Clinic
DESCRIPTION:Boston Municipal Court \nSmall claims- 1st and 3rd Thursdays 10am-1pm\, \n24 New Chardon Street\, Boston MA 02114 (5th Floor) \nDorchester Municipal Court- Small Claims \n2nd and 4th Thursdays 11 am- 1 pm \n510 Washington St\, Boston\, \nMA 02124
URL:https://vlpnet.org/event/consumer-debt-clinic-75-2/2025-04-24/
CATEGORIES:Calendar of Events
END:VEVENT
BEGIN:VEVENT
DTSTART;TZID=America/New_York:20250425T083000
DTEND;TZID=America/New_York:20250425T120000
DTSTAMP:20260422T065838
CREATED:20250211T191523Z
LAST-MODIFIED:20260320T173134Z
UID:10003300-1745569800-1745582400@vlpnet.org
SUMMARY:Malden Consumer Debt Clinic
DESCRIPTION:In-Person @ Malden District Court \n400 Mystic Valley Pkwy\, Medford\, MA\, 02155 \nOutside of Courtroom 3
URL:https://vlpnet.org/event/malden-consumer-clinic/2025-04-25/
CATEGORIES:Calendar of Events
END:VEVENT
BEGIN:VEVENT
DTSTART;TZID=America/New_York:20250428T120000
DTEND;TZID=America/New_York:20250428T133000
DTSTAMP:20260422T065838
CREATED:20250320T182229Z
LAST-MODIFIED:20250320T182229Z
UID:10003321-1745841600-1745847000@vlpnet.org
SUMMARY:Consumer Law Training- Combatting Unlawful Seizure of Wages and Assets and Vacating Default Judgments
DESCRIPTION:This training will cover consumer debt cases post-judgment that are in the civil session of the Boston Municipal Court (BMC) and state district courts. These are cases where a creditor has received a judgment against a client and is trying to collect on that judgment through garnishing the low income client’s wages and/or levying the client’s bank account. Most of our clients have income or assets that is exempt from collection. Pro Bono attorneys will learn how to successfully oppose wage garnishments and bank account levies. Some of these cases involve an underlying default judgment that issued because the client never received notice of the alleged underlying debt. Pro Bono attorneys will also learn how to vacate judgments in the civil and small claims sessions of BMC and state district courts.
URL:https://vlpnet.org/event/consumer-law-training-combatting-unlawful-seizure-of-wages-and-assets-and-vacating-default-judgments/
CATEGORIES:Calendar of Events
END:VEVENT
BEGIN:VEVENT
DTSTART;TZID=America/New_York:20250429T093000
DTEND;TZID=America/New_York:20250429T123000
DTSTAMP:20260422T065838
CREATED:20241008T201522Z
LAST-MODIFIED:20260413T144056Z
UID:10002504-1745919000-1745929800@vlpnet.org
SUMMARY:Housing Lawyer for the Day Clinic
DESCRIPTION:In-Person @ Eastern Housing Court (the Edward Brooke Courthouse)\, on the 3rd Floor outside the clerks office. \n24 New Chardon St\, Boston\, MA 02114
URL:https://vlpnet.org/event/housing-lawyer-for-the-day-clinic-in-person-101/2025-04-29/
CATEGORIES:Calendar of Events
END:VEVENT
BEGIN:VEVENT
DTSTART;TZID=America/New_York:20250429T113000
DTEND;TZID=America/New_York:20250429T143000
DTSTAMP:20260422T065838
CREATED:20241009T130339Z
LAST-MODIFIED:20250930T201254Z
UID:10002573-1745926200-1745937000@vlpnet.org
SUMMARY:Housing Lawyer for the Day Clinic- In Person
DESCRIPTION:In-Person @ Eastern Housing Court (the Edward Brooke Courthouse)\, on the 3rd Floor outside of Courtroom 10. \n24 New Chardon St\, Boston\, MA 02114
URL:https://vlpnet.org/event/housing-lawyer-for-the-day-clinic-in-person-102-2/2025-04-29/
CATEGORIES:Calendar of Events
END:VEVENT
BEGIN:VEVENT
DTSTART;TZID=America/New_York:20250501T110000
DTEND;TZID=America/New_York:20250501T130000
DTSTAMP:20260422T065838
CREATED:20250320T174232Z
LAST-MODIFIED:20250625T190754Z
UID:10002825-1746097200-1746104400@vlpnet.org
SUMMARY:Consumer Debt Clinic
DESCRIPTION:Boston Municipal Court \nSmall claims- 1st and 3rd Thursdays 10am-1pm\, \n24 New Chardon Street\, Boston MA 02114 (5th Floor) \n  \nDorchester Municipal Court- Small Claims \n2nd and 4th Thursdays 9 am- 1 pm \n510 Washington St\, Boston\, \nMA 02124
URL:https://vlpnet.org/event/consumer-debt-clinic-75-2-2/2025-05-01/
CATEGORIES:Calendar of Events
END:VEVENT
BEGIN:VEVENT
DTSTART;TZID=America/New_York:20250505T160000
DTEND;TZID=America/New_York:20250505T180000
DTSTAMP:20260422T065838
CREATED:20241028T192608Z
LAST-MODIFIED:20250414T130933Z
UID:10003019-1746460800-1746468000@vlpnet.org
SUMMARY:Wage Theft Clinic
DESCRIPTION:In person at Suffolk Law School
URL:https://vlpnet.org/event/wage-theft-clinic-3/2025-05-05/
CATEGORIES:Calendar of Events
END:VEVENT
BEGIN:VEVENT
DTSTART;TZID=America/New_York:20250506T093000
DTEND;TZID=America/New_York:20250506T123000
DTSTAMP:20260422T065838
CREATED:20241008T201522Z
LAST-MODIFIED:20260413T144056Z
UID:10002505-1746523800-1746534600@vlpnet.org
SUMMARY:Housing Lawyer for the Day Clinic
DESCRIPTION:In-Person @ Eastern Housing Court (the Edward Brooke Courthouse)\, on the 3rd Floor outside the clerks office. \n24 New Chardon St\, Boston\, MA 02114
URL:https://vlpnet.org/event/housing-lawyer-for-the-day-clinic-in-person-101/2025-05-06/
CATEGORIES:Calendar of Events
END:VEVENT
BEGIN:VEVENT
DTSTART;TZID=America/New_York:20250506T113000
DTEND;TZID=America/New_York:20250506T143000
DTSTAMP:20260422T065839
CREATED:20241009T130339Z
LAST-MODIFIED:20250930T201254Z
UID:10002574-1746531000-1746541800@vlpnet.org
SUMMARY:Housing Lawyer for the Day Clinic- In Person
DESCRIPTION:In-Person @ Eastern Housing Court (the Edward Brooke Courthouse)\, on the 3rd Floor outside of Courtroom 10. \n24 New Chardon St\, Boston\, MA 02114
URL:https://vlpnet.org/event/housing-lawyer-for-the-day-clinic-in-person-102-2/2025-05-06/
CATEGORIES:Calendar of Events
END:VEVENT
BEGIN:VEVENT
DTSTART;TZID=America/New_York:20250507T090000
DTEND;TZID=America/New_York:20250507T130000
DTSTAMP:20260422T065839
CREATED:20241009T144130Z
LAST-MODIFIED:20260417T180517Z
UID:10002928-1746608400-1746622800@vlpnet.org
SUMMARY:Family Law/Guardianship Clinic- In Person
DESCRIPTION:In-Person @ Suffolk Probate and Family Court: 24 New Chardon St\, Boston MA 02114
URL:https://vlpnet.org/event/family-law-guardianship-clinic-in-person-60/2025-05-07/
CATEGORIES:Calendar of Events,VLP-events
END:VEVENT
BEGIN:VEVENT
DTSTART;TZID=America/New_York:20250508T090000
DTEND;TZID=America/New_York:20250508T130000
DTSTAMP:20260422T065839
CREATED:20241025T190541Z
LAST-MODIFIED:20251121T195650Z
UID:10003250-1746694800-1746709200@vlpnet.org
SUMMARY:Suffolk County Guardianship Clinic
DESCRIPTION:In-Person @ Suffolk Probate and Family Court: 24 New Chardon St\, Boston MA 02114 \n2nd Floor Court Service Center
URL:https://vlpnet.org/event/suffolk-county-guardianship-clinic/2025-05-08/
CATEGORIES:Calendar of Events
END:VEVENT
BEGIN:VEVENT
DTSTART;TZID=America/New_York:20250508T110000
DTEND;TZID=America/New_York:20250508T130000
DTSTAMP:20260422T065839
CREATED:20250320T174232Z
LAST-MODIFIED:20250625T190754Z
UID:10003272-1746702000-1746709200@vlpnet.org
SUMMARY:Consumer Debt Clinic
DESCRIPTION:Boston Municipal Court \nSmall claims- 1st and 3rd Thursdays 10am-1pm\, \n24 New Chardon Street\, Boston MA 02114 (5th Floor) \n  \nDorchester Municipal Court- Small Claims \n2nd and 4th Thursdays 9 am- 1 pm \n510 Washington St\, Boston\, \nMA 02124
URL:https://vlpnet.org/event/consumer-debt-clinic-75-2-2/2025-05-08/
CATEGORIES:Calendar of Events
END:VEVENT
BEGIN:VEVENT
DTSTART;TZID=America/New_York:20250512T120000
DTEND;TZID=America/New_York:20250512T133000
DTSTAMP:20260422T065839
CREATED:20250320T182155Z
LAST-MODIFIED:20250328T140639Z
UID:10003322-1747051200-1747056600@vlpnet.org
SUMMARY:Consumer: 93A Affirmative Claims Training
DESCRIPTION:During this training we will discuss the elements of a 93A\, Federal and Massachusetts Fair Debt Collection Practices\, and Affirmative Claims.
URL:https://vlpnet.org/event/93a-affirmative-claims-training/
CATEGORIES:Calendar of Events
END:VEVENT
BEGIN:VEVENT
DTSTART;TZID=America/New_York:20250514T090000
DTEND;TZID=America/New_York:20250514T130000
DTSTAMP:20260422T065839
CREATED:20241009T141510Z
LAST-MODIFIED:20251121T194414Z
UID:10002903-1747213200-1747227600@vlpnet.org
SUMMARY:Family Law/Guardianship Clinic- Virtual
DESCRIPTION:Before your virtually scheduled clinic date\, we will send you the zoom login information and all other necessary information to participate.
URL:https://vlpnet.org/event/family-law-guardianship-clinic-virtual-41/2025-05-14/
CATEGORIES:Calendar of Events
END:VEVENT
BEGIN:VEVENT
DTSTART;TZID=America/New_York:20250515T110000
DTEND;TZID=America/New_York:20250515T130000
DTSTAMP:20260422T065839
CREATED:20250320T174232Z
LAST-MODIFIED:20250625T190754Z
UID:10002826-1747306800-1747314000@vlpnet.org
SUMMARY:Consumer Debt Clinic
DESCRIPTION:Boston Municipal Court \nSmall claims- 1st and 3rd Thursdays 10am-1pm\, \n24 New Chardon Street\, Boston MA 02114 (5th Floor) \n  \nDorchester Municipal Court- Small Claims \n2nd and 4th Thursdays 9 am- 1 pm \n510 Washington St\, Boston\, \nMA 02124
URL:https://vlpnet.org/event/consumer-debt-clinic-75-2-2/2025-05-15/
CATEGORIES:Calendar of Events
END:VEVENT
BEGIN:VEVENT
DTSTART;TZID=America/New_York:20250520T093000
DTEND;TZID=America/New_York:20250520T123000
DTSTAMP:20260422T065839
CREATED:20241008T201522Z
LAST-MODIFIED:20260413T144056Z
UID:10002507-1747733400-1747744200@vlpnet.org
SUMMARY:Housing Lawyer for the Day Clinic
DESCRIPTION:In-Person @ Eastern Housing Court (the Edward Brooke Courthouse)\, on the 3rd Floor outside the clerks office. \n24 New Chardon St\, Boston\, MA 02114
URL:https://vlpnet.org/event/housing-lawyer-for-the-day-clinic-in-person-101/2025-05-20/
CATEGORIES:Calendar of Events
END:VEVENT
BEGIN:VEVENT
DTSTART;TZID=America/New_York:20250520T113000
DTEND;TZID=America/New_York:20250520T143000
DTSTAMP:20260422T065839
CREATED:20241009T130339Z
LAST-MODIFIED:20250930T201254Z
UID:10002575-1747740600-1747751400@vlpnet.org
SUMMARY:Housing Lawyer for the Day Clinic- In Person
DESCRIPTION:In-Person @ Eastern Housing Court (the Edward Brooke Courthouse)\, on the 3rd Floor outside of Courtroom 10. \n24 New Chardon St\, Boston\, MA 02114
URL:https://vlpnet.org/event/housing-lawyer-for-the-day-clinic-in-person-102-2/2025-05-20/
CATEGORIES:Calendar of Events
END:VEVENT
BEGIN:VEVENT
DTSTART;TZID=America/New_York:20250521T090000
DTEND;TZID=America/New_York:20250521T130000
DTSTAMP:20260422T065839
CREATED:20241009T144130Z
LAST-MODIFIED:20260417T180517Z
UID:10002929-1747818000-1747832400@vlpnet.org
SUMMARY:Family Law/Guardianship Clinic- In Person
DESCRIPTION:In-Person @ Suffolk Probate and Family Court: 24 New Chardon St\, Boston MA 02114
URL:https://vlpnet.org/event/family-law-guardianship-clinic-in-person-60/2025-05-21/
CATEGORIES:Calendar of Events,VLP-events
END:VEVENT
BEGIN:VEVENT
DTSTART;TZID=America/New_York:20250522T110000
DTEND;TZID=America/New_York:20250522T130000
DTSTAMP:20260422T065839
CREATED:20250320T174232Z
LAST-MODIFIED:20250625T190754Z
UID:10003273-1747911600-1747918800@vlpnet.org
SUMMARY:Consumer Debt Clinic
DESCRIPTION:Boston Municipal Court \nSmall claims- 1st and 3rd Thursdays 10am-1pm\, \n24 New Chardon Street\, Boston MA 02114 (5th Floor) \n  \nDorchester Municipal Court- Small Claims \n2nd and 4th Thursdays 9 am- 1 pm \n510 Washington St\, Boston\, \nMA 02124
URL:https://vlpnet.org/event/consumer-debt-clinic-75-2-2/2025-05-22/
CATEGORIES:Calendar of Events
END:VEVENT
BEGIN:VEVENT
DTSTART;TZID=America/New_York:20250523T083000
DTEND;TZID=America/New_York:20250523T120000
DTSTAMP:20260422T065839
CREATED:20250211T191523Z
LAST-MODIFIED:20260320T173134Z
UID:10003301-1747989000-1748001600@vlpnet.org
SUMMARY:Malden Consumer Debt Clinic
DESCRIPTION:In-Person @ Malden District Court \n400 Mystic Valley Pkwy\, Medford\, MA\, 02155 \nOutside of Courtroom 3
URL:https://vlpnet.org/event/malden-consumer-clinic/2025-05-23/
CATEGORIES:Calendar of Events
END:VEVENT
BEGIN:VEVENT
DTSTART;TZID=America/New_York:20250527T093000
DTEND;TZID=America/New_York:20250527T123000
DTSTAMP:20260422T065839
CREATED:20241008T201522Z
LAST-MODIFIED:20260413T144056Z
UID:10002985-1748338200-1748349000@vlpnet.org
SUMMARY:Housing Lawyer for the Day Clinic
DESCRIPTION:In-Person @ Eastern Housing Court (the Edward Brooke Courthouse)\, on the 3rd Floor outside the clerks office. \n24 New Chardon St\, Boston\, MA 02114
URL:https://vlpnet.org/event/housing-lawyer-for-the-day-clinic-in-person-101/2025-05-27/
CATEGORIES:Calendar of Events
END:VEVENT
BEGIN:VEVENT
DTSTART;TZID=America/New_York:20250527T113000
DTEND;TZID=America/New_York:20250527T143000
DTSTAMP:20260422T065839
CREATED:20241009T130339Z
LAST-MODIFIED:20250930T201254Z
UID:10002996-1748345400-1748356200@vlpnet.org
SUMMARY:Housing Lawyer for the Day Clinic- In Person
DESCRIPTION:In-Person @ Eastern Housing Court (the Edward Brooke Courthouse)\, on the 3rd Floor outside of Courtroom 10. \n24 New Chardon St\, Boston\, MA 02114
URL:https://vlpnet.org/event/housing-lawyer-for-the-day-clinic-in-person-102-2/2025-05-27/
CATEGORIES:Calendar of Events
END:VEVENT
BEGIN:VEVENT
DTSTART;TZID=America/New_York:20250602T160000
DTEND;TZID=America/New_York:20250602T170000
DTSTAMP:20260422T065839
CREATED:20250122T143836Z
LAST-MODIFIED:20250122T143836Z
UID:10003290-1748880000-1748883600@vlpnet.org
SUMMARY:New Volunteer Orientation
DESCRIPTION:The Zoom link will be emailed to you the morning of the orientation.
URL:https://vlpnet.org/event/new-volunteer-orientation-4-9/
CATEGORIES:Calendar of Events
END:VEVENT
END:VCALENDAR