BEGIN:VCALENDAR
VERSION:2.0
PRODID:-//Volunteer Lawyers Project - ECPv6.6.4.2//NONSGML v1.0//EN
CALSCALE:GREGORIAN
METHOD:PUBLISH
X-ORIGINAL-URL:https://vlpnet.org
X-WR-CALDESC:Events for Volunteer Lawyers Project
REFRESH-INTERVAL;VALUE=DURATION:PT1H
X-Robots-Tag:noindex
X-PUBLISHED-TTL:PT1H
BEGIN:VTIMEZONE
TZID:America/New_York
BEGIN:DAYLIGHT
TZOFFSETFROM:-0500
TZOFFSETTO:-0400
TZNAME:EDT
DTSTART:20260308T070000
END:DAYLIGHT
BEGIN:STANDARD
TZOFFSETFROM:-0400
TZOFFSETTO:-0500
TZNAME:EST
DTSTART:20261101T060000
END:STANDARD
END:VTIMEZONE
BEGIN:VEVENT
DTSTART;TZID=America/New_York:20260421T093000
DTEND;TZID=America/New_York:20260421T123000
DTSTAMP:20260420T115919
CREATED:20241008T201522Z
LAST-MODIFIED:20260413T144056Z
UID:10003500-1776763800-1776774600@vlpnet.org
SUMMARY:Housing Lawyer for the Day Clinic
DESCRIPTION:In-Person @ Eastern Housing Court (the Edward Brooke Courthouse)\, on the 3rd Floor outside the clerks office. \n24 New Chardon St\, Boston\, MA 02114
URL:https://vlpnet.org/event/housing-lawyer-for-the-day-clinic-in-person-101/2026-04-21/
CATEGORIES:Calendar of Events
END:VEVENT
BEGIN:VEVENT
DTSTART;TZID=America/New_York:20260421T113000
DTEND;TZID=America/New_York:20260421T143000
DTSTAMP:20260420T115919
CREATED:20250930T200811Z
LAST-MODIFIED:20260410T195640Z
UID:10003690-1776771000-1776781800@vlpnet.org
SUMMARY:Housing Lawyer for the Day Clinic- In Person
DESCRIPTION:In-Person @ Eastern Housing Court (the Edward Brooke Courthouse)\, on the 3rd Floor outside of Courtroom 10. \n24 New Chardon St\, Boston\, MA 02114
URL:https://vlpnet.org/event/housing-lawyer-for-the-day-clinic-in-person-102-2-2/2026-04-21/
CATEGORIES:Calendar of Events
END:VEVENT
BEGIN:VEVENT
DTSTART;TZID=America/New_York:20260422T090000
DTEND;TZID=America/New_York:20260422T130000
DTSTAMP:20260420T115919
CREATED:20241009T141510Z
LAST-MODIFIED:20251121T194414Z
UID:10003418-1776848400-1776862800@vlpnet.org
SUMMARY:Family Law/Guardianship Clinic- Virtual
DESCRIPTION:Before your virtually scheduled clinic date\, we will send you the zoom login information and all other necessary information to participate.
URL:https://vlpnet.org/event/family-law-guardianship-clinic-virtual-41/2026-04-22/
CATEGORIES:Calendar of Events
END:VEVENT
BEGIN:VEVENT
DTSTART;TZID=America/New_York:20260423T083000
DTEND;TZID=America/New_York:20260423T110000
DTSTAMP:20260420T115919
CREATED:20260320T183652Z
LAST-MODIFIED:20260323T133006Z
UID:10003642-1776933000-1776942000@vlpnet.org
SUMMARY:Consumer Debt Clinic (Dorchester)
DESCRIPTION:Boston Municipal Court \nSmall claims- 1st and 3rd Thursdays 10:30 am-1pm\, \n24 New Chardon Street\, Boston MA 02114 (5th Floor) \nDorchester Municipal Court- Small Claims \n2nd and 4th Thursdays 8:30 am- 1 pm \n510 Washington St\, Boston\, \nMA 02124 \n \n 
URL:https://vlpnet.org/event/consumer-debt-clinic-dorchester/2026-04-23/
CATEGORIES:Calendar of Events
END:VEVENT
BEGIN:VEVENT
DTSTART;TZID=America/New_York:20260423T110000
DTEND;TZID=America/New_York:20260423T130000
DTSTAMP:20260420T115919
CREATED:20260323T134305Z
LAST-MODIFIED:20260323T134305Z
UID:10003659-1776942000-1776949200@vlpnet.org
SUMMARY:Consumer Debt Clinic (Dorchester)
DESCRIPTION:Boston Municipal Court \nSmall claims- 1st and 3rd Thursdays 10:30 am-1pm\, \n24 New Chardon Street\, Boston MA 02114 (5th Floor) \nDorchester Municipal Court- Small Claims \n2nd and 4th Thursdays 8:30 am- 1 pm \n510 Washington St\, Boston\, \nMA 02124
URL:https://vlpnet.org/event/consumer-debt-clinic-dorchester-2-2/2026-04-23/
CATEGORIES:Calendar of Events
END:VEVENT
BEGIN:VEVENT
DTSTART;TZID=America/New_York:20260424T083000
DTEND;TZID=America/New_York:20260424T120000
DTSTAMP:20260420T115919
CREATED:20250211T191523Z
LAST-MODIFIED:20260320T173134Z
UID:10003312-1777019400-1777032000@vlpnet.org
SUMMARY:Malden Consumer Debt Clinic
DESCRIPTION:In-Person @ Malden District Court \n400 Mystic Valley Pkwy\, Medford\, MA\, 02155 \nOutside of Courtroom 3
URL:https://vlpnet.org/event/malden-consumer-clinic/2026-04-24/
CATEGORIES:Calendar of Events
END:VEVENT
BEGIN:VEVENT
DTSTART;TZID=America/New_York:20260428T093000
DTEND;TZID=America/New_York:20260428T123000
DTSTAMP:20260420T115919
CREATED:20241008T201522Z
LAST-MODIFIED:20260413T144056Z
UID:10003501-1777368600-1777379400@vlpnet.org
SUMMARY:Housing Lawyer for the Day Clinic
DESCRIPTION:In-Person @ Eastern Housing Court (the Edward Brooke Courthouse)\, on the 3rd Floor outside the clerks office. \n24 New Chardon St\, Boston\, MA 02114
URL:https://vlpnet.org/event/housing-lawyer-for-the-day-clinic-in-person-101/2026-04-28/
CATEGORIES:Calendar of Events
END:VEVENT
BEGIN:VEVENT
DTSTART;TZID=America/New_York:20260428T113000
DTEND;TZID=America/New_York:20260428T143000
DTSTAMP:20260420T115919
CREATED:20250930T200811Z
LAST-MODIFIED:20260410T195640Z
UID:10003691-1777375800-1777386600@vlpnet.org
SUMMARY:Housing Lawyer for the Day Clinic- In Person
DESCRIPTION:In-Person @ Eastern Housing Court (the Edward Brooke Courthouse)\, on the 3rd Floor outside of Courtroom 10. \n24 New Chardon St\, Boston\, MA 02114
URL:https://vlpnet.org/event/housing-lawyer-for-the-day-clinic-in-person-102-2-2/2026-04-28/
CATEGORIES:Calendar of Events
END:VEVENT
END:VCALENDAR